BEGIN:VCALENDAR
VERSION:2.0
PRODID:-//Sidestrand Hall School - ECPv6.10.2//NONSGML v1.0//EN
CALSCALE:GREGORIAN
METHOD:PUBLISH
X-WR-CALNAME:Sidestrand Hall School
X-ORIGINAL-URL:https://sidestrandhall.org.uk
X-WR-CALDESC:Events for Sidestrand Hall School
REFRESH-INTERVAL;VALUE=DURATION:PT1H
X-Robots-Tag:noindex
X-PUBLISHED-TTL:PT1H
BEGIN:VTIMEZONE
TZID:Europe/London
BEGIN:DAYLIGHT
TZOFFSETFROM:+0000
TZOFFSETTO:+0100
TZNAME:BST
DTSTART:20230326T010000
END:DAYLIGHT
BEGIN:STANDARD
TZOFFSETFROM:+0100
TZOFFSETTO:+0000
TZNAME:GMT
DTSTART:20231029T010000
END:STANDARD
END:VTIMEZONE
BEGIN:VTIMEZONE
TZID:UTC
BEGIN:STANDARD
TZOFFSETFROM:+0000
TZOFFSETTO:+0000
TZNAME:UTC
DTSTART:20230101T000000
END:STANDARD
END:VTIMEZONE
BEGIN:VEVENT
DTSTART;TZID=Europe/London:20231207T163000
DTEND;TZID=Europe/London:20231207T190000
DTSTAMP:20260422T072606
CREATED:20231122T145700Z
LAST-MODIFIED:20231122T145700Z
UID:9587-1701966600-1701975600@sidestrandhall.org.uk
SUMMARY:Illuminate Sidestrand Christmas Fayre
DESCRIPTION:An illuminated woodland walk with lots of festive activities. Father Christmas will be in his workshop and there will be entertainment\, stalls\, hot drinks and a BBQ.
URL:https://sidestrandhall.org.uk/event/illuminate-sidestrand-christmas-fayre/
LOCATION:Sidestrand Hall School\, Cromer Road\, Sidestrand\, NR270NH\, United Kingdom
ATTACH;FMTTYPE=image/jpeg:https://sidestrandhall.org.uk/wp-content/uploads/2023/11/christmas-fayre.jpg
END:VEVENT
BEGIN:VEVENT
DTSTART;TZID=UTC:20231218T103000
DTEND;TZID=UTC:20231218T130000
DTSTAMP:20260422T072606
CREATED:20230731T103533Z
LAST-MODIFIED:20231114T161615Z
UID:7510-1702895400-1702904400@sidestrandhall.org.uk
SUMMARY:Christmas Carol Service
DESCRIPTION:Christmas Carol Service at Cromer Church
URL:https://sidestrandhall.org.uk/event/carol-concert/
LOCATION:Cromer Church\, 65 Church Street\, Cromer\, NR27 9HH\, United Kingdom
END:VEVENT
BEGIN:VEVENT
DTSTART;TZID=UTC:20231219T120000
DTEND;TZID=UTC:20231219T133000
DTSTAMP:20260422T072606
CREATED:20230731T103639Z
LAST-MODIFIED:20230731T105155Z
UID:7513-1702987200-1702992600@sidestrandhall.org.uk
SUMMARY:Christmas Dinner Day
DESCRIPTION:More information to follow
URL:https://sidestrandhall.org.uk/event/christmas-dinner-day/
END:VEVENT
BEGIN:VEVENT
DTSTART;VALUE=DATE:20231221
DTEND;VALUE=DATE:20240104
DTSTAMP:20260422T072606
CREATED:20230731T104454Z
LAST-MODIFIED:20230731T105101Z
UID:7515-1703116800-1704326399@sidestrandhall.org.uk
SUMMARY:End of term
DESCRIPTION:Christmas Holidays. School closed until 4th January 2024
URL:https://sidestrandhall.org.uk/event/end-of-term/
END:VEVENT
END:VCALENDAR