BEGIN:VCALENDAR
VERSION:2.0
PRODID:-//Sidestrand Hall School - ECPv6.10.2//NONSGML v1.0//EN
CALSCALE:GREGORIAN
METHOD:PUBLISH
X-ORIGINAL-URL:https://sidestrandhall.org.uk
X-WR-CALDESC:Events for Sidestrand Hall School
REFRESH-INTERVAL;VALUE=DURATION:PT1H
X-Robots-Tag:noindex
X-PUBLISHED-TTL:PT1H
BEGIN:VTIMEZONE
TZID:Europe/London
BEGIN:DAYLIGHT
TZOFFSETFROM:+0000
TZOFFSETTO:+0100
TZNAME:BST
DTSTART:20230326T010000
END:DAYLIGHT
BEGIN:STANDARD
TZOFFSETFROM:+0100
TZOFFSETTO:+0000
TZNAME:GMT
DTSTART:20231029T010000
END:STANDARD
END:VTIMEZONE
BEGIN:VEVENT
DTSTART;VALUE=DATE:20231117
DTEND;VALUE=DATE:20231118
DTSTAMP:20260422T085838
CREATED:20230927T144417Z
LAST-MODIFIED:20230927T144952Z
UID:8742-1700179200-1700265599@sidestrandhall.org.uk
SUMMARY:Children in Need
DESCRIPTION:BBC Children in Need Day.  Activities to be announced soon.
URL:https://sidestrandhall.org.uk/event/children-in-need-2/
LOCATION:Sidestrand Hall School\, Cromer Road\, Sidestrand\, NR270NH\, United Kingdom
ATTACH;FMTTYPE=image/png:https://sidestrandhall.org.uk/wp-content/uploads/2023/09/pudsy23-1.png
END:VEVENT
END:VCALENDAR