BEGIN:VCALENDAR
VERSION:2.0
PRODID:-//Sidestrand Hall School - ECPv6.10.2//NONSGML v1.0//EN
CALSCALE:GREGORIAN
METHOD:PUBLISH
X-ORIGINAL-URL:https://sidestrandhall.org.uk
X-WR-CALDESC:Events for Sidestrand Hall School
REFRESH-INTERVAL;VALUE=DURATION:PT1H
X-Robots-Tag:noindex
X-PUBLISHED-TTL:PT1H
BEGIN:VTIMEZONE
TZID:Europe/London
BEGIN:DAYLIGHT
TZOFFSETFROM:+0000
TZOFFSETTO:+0100
TZNAME:BST
DTSTART:20240331T010000
END:DAYLIGHT
BEGIN:STANDARD
TZOFFSETFROM:+0100
TZOFFSETTO:+0000
TZNAME:GMT
DTSTART:20241027T010000
END:STANDARD
BEGIN:DAYLIGHT
TZOFFSETFROM:+0000
TZOFFSETTO:+0100
TZNAME:BST
DTSTART:20250330T010000
END:DAYLIGHT
BEGIN:STANDARD
TZOFFSETFROM:+0100
TZOFFSETTO:+0000
TZNAME:GMT
DTSTART:20251026T010000
END:STANDARD
BEGIN:DAYLIGHT
TZOFFSETFROM:+0000
TZOFFSETTO:+0100
TZNAME:BST
DTSTART:20260329T010000
END:DAYLIGHT
BEGIN:STANDARD
TZOFFSETFROM:+0100
TZOFFSETTO:+0000
TZNAME:GMT
DTSTART:20261025T010000
END:STANDARD
END:VTIMEZONE
BEGIN:VEVENT
DTSTART;VALUE=DATE:20260330
DTEND;VALUE=DATE:20260414
DTSTAMP:20260424T165404
CREATED:20260309T114254Z
LAST-MODIFIED:20260309T114317Z
UID:12938-1774828800-1776124799@sidestrandhall.org.uk
SUMMARY:Easter Break - School Closed
DESCRIPTION:School Closed
URL:https://sidestrandhall.org.uk/event/easter-break-school-closed/
CATEGORIES:Event
ATTACH;FMTTYPE=image/jpeg:https://sidestrandhall.org.uk/wp-content/uploads/2026/03/spring-break.jpg
END:VEVENT
BEGIN:VEVENT
DTSTART;VALUE=DATE:20260324
DTEND;VALUE=DATE:20260326
DTSTAMP:20260424T165404
CREATED:20260205T143332Z
LAST-MODIFIED:20260205T154708Z
UID:12797-1774310400-1774483199@sidestrandhall.org.uk
SUMMARY:Cromer Pier Show
DESCRIPTION:Cromer Pier Show
URL:https://sidestrandhall.org.uk/event/cromer-pier-show/
LOCATION:Cromer Pier\, Pier\, Cromer\, NR27 9HE
CATEGORIES:Event
ATTACH;FMTTYPE=image/jpeg:https://sidestrandhall.org.uk/wp-content/uploads/2026/02/stage.jpg
END:VEVENT
BEGIN:VEVENT
DTSTART;VALUE=DATE:20260305
DTEND;VALUE=DATE:20260306
DTSTAMP:20260424T165404
CREATED:20260205T141427Z
LAST-MODIFIED:20260205T141656Z
UID:12791-1772668800-1772755199@sidestrandhall.org.uk
SUMMARY:World Book Day
DESCRIPTION:World Book Day
URL:https://sidestrandhall.org.uk/event/world-book-day-2/
CATEGORIES:Event
ATTACH;FMTTYPE=image/jpeg:https://sidestrandhall.org.uk/wp-content/uploads/2026/02/wbd26.jpg
END:VEVENT
BEGIN:VEVENT
DTSTART;VALUE=DATE:20260220
DTEND;VALUE=DATE:20260221
DTSTAMP:20260424T165404
CREATED:20260205T141831Z
LAST-MODIFIED:20260205T141831Z
UID:12794-1771545600-1771631999@sidestrandhall.org.uk
SUMMARY:Red Nose Day
DESCRIPTION:Red Nose Day
URL:https://sidestrandhall.org.uk/event/red-nose-day-2/
CATEGORIES:Event
ATTACH;FMTTYPE=image/jpeg:https://sidestrandhall.org.uk/wp-content/uploads/2026/02/rednose26.jpg
END:VEVENT
BEGIN:VEVENT
DTSTART;VALUE=DATE:20260216
DTEND;VALUE=DATE:20260221
DTSTAMP:20260424T165404
CREATED:20260205T140836Z
LAST-MODIFIED:20260205T140910Z
UID:12789-1771200000-1771631999@sidestrandhall.org.uk
SUMMARY:February Half Term
DESCRIPTION:School will be closed to pupils from Monday 16th February through to Friday 20th. \nRe-pens on Monday 23rd Febrauary.
URL:https://sidestrandhall.org.uk/event/february-half-term-3/
CATEGORIES:Event
END:VEVENT
BEGIN:VEVENT
DTSTART;VALUE=DATE:20260210
DTEND;VALUE=DATE:20260211
DTSTAMP:20260424T165404
CREATED:20260205T134119Z
LAST-MODIFIED:20260205T134208Z
UID:12782-1770681600-1770767999@sidestrandhall.org.uk
SUMMARY:Safer Internet Day 2026
DESCRIPTION:Safer Internet Day 2026 will take place on the 10th of February 2026\, with celebrations and learning based around the theme ‘Smart tech\, safe choices – Exploring the safe and responsible use of AI’.
URL:https://sidestrandhall.org.uk/event/safer-internet-day-2026/
CATEGORIES:esafety,Event
ATTACH;FMTTYPE=image/png:https://sidestrandhall.org.uk/wp-content/uploads/2026/02/sidlogo.png
END:VEVENT
BEGIN:VEVENT
DTSTART;VALUE=DATE:20260209
DTEND;VALUE=DATE:20260214
DTSTAMP:20260424T165404
CREATED:20260205T140622Z
LAST-MODIFIED:20260205T143536Z
UID:12786-1770595200-1771027199@sidestrandhall.org.uk
SUMMARY:Kindness Week
DESCRIPTION:
URL:https://sidestrandhall.org.uk/event/kindness-week/
CATEGORIES:Event
ATTACH;FMTTYPE=image/jpeg:https://sidestrandhall.org.uk/wp-content/uploads/2026/02/kindness.jpg
END:VEVENT
BEGIN:VEVENT
DTSTART;VALUE=DATE:20251217
DTEND;VALUE=DATE:20251218
DTSTAMP:20260424T165404
CREATED:20250929T124846Z
LAST-MODIFIED:20251003T093933Z
UID:12389-1765929600-1766015999@sidestrandhall.org.uk
SUMMARY:Christmas Panto
DESCRIPTION:Christmas Panto Day for primary and Dragonfly pupils. \nMore info to follow
URL:https://sidestrandhall.org.uk/event/christmas-panto/
CATEGORIES:Event
ATTACH;FMTTYPE=image/jpeg:https://sidestrandhall.org.uk/wp-content/uploads/2025/09/panto.jpg
END:VEVENT
BEGIN:VEVENT
DTSTART;VALUE=DATE:20251204
DTEND;VALUE=DATE:20251205
DTSTAMP:20260424T165404
CREATED:20251003T094436Z
LAST-MODIFIED:20251003T094436Z
UID:12404-1764806400-1764892799@sidestrandhall.org.uk
SUMMARY:Christmas Light Walk and Fayre
DESCRIPTION:Christmas Light Walk and Fair \nMore info to follow
URL:https://sidestrandhall.org.uk/event/christmas-light-walk-and-fayre/
LOCATION:Sidestrand Hall School\, Cromer Road\, Sidestrand\, NR270NH\, United Kingdom
CATEGORIES:Event
ATTACH;FMTTYPE=image/jpeg:https://sidestrandhall.org.uk/wp-content/uploads/2023/12/DSC_1157.jpg
END:VEVENT
BEGIN:VEVENT
DTSTART;VALUE=DATE:20251027
DTEND;VALUE=DATE:20251101
DTSTAMP:20260424T165404
CREATED:20251003T093542Z
LAST-MODIFIED:20251003T093542Z
UID:12401-1761523200-1761955199@sidestrandhall.org.uk
SUMMARY:October Half Term
DESCRIPTION:School closed to pupils
URL:https://sidestrandhall.org.uk/event/october-half-term-3/
CATEGORIES:Event
END:VEVENT
BEGIN:VEVENT
DTSTART;VALUE=DATE:20250723
DTEND;VALUE=DATE:20250903
DTSTAMP:20260424T165404
CREATED:20240920T123411Z
LAST-MODIFIED:20250805T084401Z
UID:11201-1753228800-1756857599@sidestrandhall.org.uk
SUMMARY:Summer Holidays
DESCRIPTION:SCHOOL CLOSED TO PUPILS
URL:https://sidestrandhall.org.uk/event/summer-holidays/
CATEGORIES:Event
END:VEVENT
BEGIN:VEVENT
DTSTART;VALUE=DATE:20250718
DTEND;VALUE=DATE:20250719
DTSTAMP:20260424T165404
CREATED:20250519T094734Z
LAST-MODIFIED:20250519T094734Z
UID:12216-1752796800-1752883199@sidestrandhall.org.uk
SUMMARY:Strandfest 2025
DESCRIPTION:The theme for this year is ‘The Nineties’.  \n \nWhether you are Blur or Oasis\, Spice Girls or All Saints\, Nirvana or Red Hot Chilli Peppers\, Strandfest will be incorporating the musical trends of the nineties!  Think Britpop\, Grunge or Big Beat for inspiration!  Or think completely out of the box and plan something based on the fashion\, trends\, TV\, news events or films from the decade!
URL:https://sidestrandhall.org.uk/event/strandfest-2025/
LOCATION:Sidestrand Hall School\, Cromer Road\, Sidestrand\, NR270NH\, United Kingdom
CATEGORIES:Event
ATTACH;FMTTYPE=image/png:https://sidestrandhall.org.uk/wp-content/uploads/2025/05/90s.png
END:VEVENT
BEGIN:VEVENT
DTSTART;VALUE=DATE:20250708
DTEND;VALUE=DATE:20250710
DTSTAMP:20260424T165404
CREATED:20250514T123025Z
LAST-MODIFIED:20250514T123025Z
UID:12200-1751932800-1752105599@sidestrandhall.org.uk
SUMMARY:Transition Days
DESCRIPTION:
URL:https://sidestrandhall.org.uk/event/transition-days/
LOCATION:Sidestrand Hall School\, Cromer Road\, Sidestrand\, NR270NH\, United Kingdom
CATEGORIES:Event
END:VEVENT
BEGIN:VEVENT
DTSTART;TZID=Europe/London:20250703T160000
DTEND;TZID=Europe/London:20250703T183000
DTSTAMP:20260424T165404
CREATED:20250513T144240Z
LAST-MODIFIED:20250513T145206Z
UID:12187-1751558400-1751567400@sidestrandhall.org.uk
SUMMARY:Summer Fayre 2025
DESCRIPTION:
URL:https://sidestrandhall.org.uk/event/summer-fayre-2025/
LOCATION:Sidestrand Hall School\, Cromer Road\, Sidestrand\, NR270NH\, United Kingdom
CATEGORIES:Event
ATTACH;FMTTYPE=image/png:https://sidestrandhall.org.uk/wp-content/uploads/2025/05/Summer-Fayre-circle.png
END:VEVENT
BEGIN:VEVENT
DTSTART;VALUE=DATE:20250526
DTEND;VALUE=DATE:20250531
DTSTAMP:20260424T165404
CREATED:20240920T123153Z
LAST-MODIFIED:20240920T123153Z
UID:11199-1748217600-1748649599@sidestrandhall.org.uk
SUMMARY:May Half Term
DESCRIPTION:SCHOOL CLOSED TO PUPILS
URL:https://sidestrandhall.org.uk/event/may-half-term/
CATEGORIES:Event
END:VEVENT
BEGIN:VEVENT
DTSTART;VALUE=DATE:20250407
DTEND;VALUE=DATE:20250423
DTSTAMP:20260424T165404
CREATED:20240920T122955Z
LAST-MODIFIED:20240920T122955Z
UID:11197-1743984000-1745366399@sidestrandhall.org.uk
SUMMARY:Easter Holidays
DESCRIPTION:SCHOOL CLOSED
URL:https://sidestrandhall.org.uk/event/easter-holidays/
CATEGORIES:Event
END:VEVENT
BEGIN:VEVENT
DTSTART;TZID=Europe/London:20241219T103000
DTEND;TZID=Europe/London:20241219T113000
DTSTAMP:20260424T165404
CREATED:20240920T121123Z
LAST-MODIFIED:20241209T122501Z
UID:11188-1734604200-1734607800@sidestrandhall.org.uk
SUMMARY:Cromer Church Carol Service
DESCRIPTION:Service length: 1 hour approx.
URL:https://sidestrandhall.org.uk/event/cromer-church-carol-service/
LOCATION:Cromer Church\, 65 Church Street\, Cromer\, NR27 9HH\, United Kingdom
CATEGORIES:Event
ATTACH;FMTTYPE=image/jpeg:https://sidestrandhall.org.uk/wp-content/uploads/2024/09/choir.jpg
END:VEVENT
BEGIN:VEVENT
DTSTART;VALUE=DATE:20241218
DTEND;VALUE=DATE:20241219
DTSTAMP:20260424T165404
CREATED:20240920T120546Z
LAST-MODIFIED:20240920T120557Z
UID:11186-1734480000-1734566399@sidestrandhall.org.uk
SUMMARY:Sheringham Pantomine
DESCRIPTION:
URL:https://sidestrandhall.org.uk/event/sheringham-pantomine/
CATEGORIES:Event
END:VEVENT
BEGIN:VEVENT
DTSTART;VALUE=DATE:20241217
DTEND;VALUE=DATE:20241218
DTSTAMP:20260424T165404
CREATED:20240920T120215Z
LAST-MODIFIED:20240920T120215Z
UID:11183-1734393600-1734479999@sidestrandhall.org.uk
SUMMARY:Christmas Dinner Day
DESCRIPTION:
URL:https://sidestrandhall.org.uk/event/christmas-dinner-day-2/
CATEGORIES:Event
ATTACH;FMTTYPE=image/jpeg:https://sidestrandhall.org.uk/wp-content/uploads/2024/09/turkey.jpg
END:VEVENT
BEGIN:VEVENT
DTSTART;VALUE=DATE:20241210
DTEND;VALUE=DATE:20241211
DTSTAMP:20260424T165404
CREATED:20240920T102700Z
LAST-MODIFIED:20240920T102700Z
UID:11180-1733788800-1733875199@sidestrandhall.org.uk
SUMMARY:Christmas Crafts
DESCRIPTION:Lower/Catkins/Bay/Willow
URL:https://sidestrandhall.org.uk/event/christmas-crafts/
CATEGORIES:Event
ATTACH;FMTTYPE=image/jpeg:https://sidestrandhall.org.uk/wp-content/uploads/2024/09/crafts.jpg
END:VEVENT
BEGIN:VEVENT
DTSTART;TZID=Europe/London:20241205T160000
DTEND;TZID=Europe/London:20241205T183000
DTSTAMP:20260424T165404
CREATED:20240920T102154Z
LAST-MODIFIED:20241125T153025Z
UID:11177-1733414400-1733423400@sidestrandhall.org.uk
SUMMARY:Christmas Light Walk and Fair
DESCRIPTION:More information on times and activities coming soon!
URL:https://sidestrandhall.org.uk/event/christmas-light-walk-and-fair/
LOCATION:Sidestrand Hall School\, Cromer Road\, Sidestrand\, NR270NH\, United Kingdom
CATEGORIES:Event
ATTACH;FMTTYPE=image/jpeg:https://sidestrandhall.org.uk/wp-content/uploads/2024/11/christmas-fayre-24.jpg
END:VEVENT
BEGIN:VEVENT
DTSTART;TZID=Europe/London:20241115T090000
DTEND;TZID=Europe/London:20241115T150000
DTSTAMP:20260424T165404
CREATED:20240920T101013Z
LAST-MODIFIED:20240920T101013Z
UID:11174-1731661200-1731682800@sidestrandhall.org.uk
SUMMARY:Children in Need
DESCRIPTION:
URL:https://sidestrandhall.org.uk/event/children-in-need/
CATEGORIES:Event
ATTACH;FMTTYPE=image/jpeg:https://sidestrandhall.org.uk/wp-content/uploads/2024/09/pudsey.jpg
END:VEVENT
BEGIN:VEVENT
DTSTART;TZID=Europe/London:20241112T090000
DTEND;TZID=Europe/London:20241112T150000
DTSTAMP:20260424T165404
CREATED:20241104T122707Z
LAST-MODIFIED:20241104T122707Z
UID:11337-1731402000-1731423600@sidestrandhall.org.uk
SUMMARY:Odd Socks Day
DESCRIPTION:[vc_row type=”in_container” full_screen_row_position=”middle” column_margin=”default” column_direction=”default” column_direction_tablet=”default” column_direction_phone=”default” scene_position=”center” text_color=”dark” text_align=”left” row_border_radius=”none” row_border_radius_applies=”bg” overflow=”visible” shape_divider_position=”bottom” bg_image_animation=”none”][vc_column column_padding=”no-extra-padding” column_padding_tablet=”inherit” column_padding_phone=”inherit” column_padding_position=”all” column_element_direction_desktop=”default” column_element_spacing=”default” desktop_text_alignment=”default” tablet_text_alignment=”default” phone_text_alignment=”default” background_color_opacity=”1″ background_hover_color_opacity=”1″ column_backdrop_filter=”none” column_shadow=”none” column_border_radius=”none” column_link_target=”_self” column_position=”default” width=”1/1″ tablet_width_inherit=”default” animation_type=”default” bg_image_animation=”none” border_type=”simple” column_border_width=”none” column_border_style=”solid”][vc_column_text]Non-Uniform Day \n[/vc_column_text][/vc_column][/vc_row]
URL:https://sidestrandhall.org.uk/event/odd-socks-day/
CATEGORIES:Event
ATTACH;FMTTYPE=image/jpeg:https://sidestrandhall.org.uk/wp-content/uploads/2024/11/oddsocks.jpg
END:VEVENT
BEGIN:VEVENT
DTSTART;VALUE=DATE:20241111
DTEND;VALUE=DATE:20241116
DTSTAMP:20260424T165404
CREATED:20240920T100720Z
LAST-MODIFIED:20240920T101136Z
UID:11171-1731283200-1731715199@sidestrandhall.org.uk
SUMMARY:Friendship Week
DESCRIPTION:
URL:https://sidestrandhall.org.uk/event/friendship-week/
CATEGORIES:Event
ATTACH;FMTTYPE=image/jpeg:https://sidestrandhall.org.uk/wp-content/uploads/2024/09/Friendship.jpg
END:VEVENT
BEGIN:VEVENT
DTSTART;TZID=Europe/London:20241108T090000
DTEND;TZID=Europe/London:20241108T150000
DTSTAMP:20260424T165404
CREATED:20240920T092039Z
LAST-MODIFIED:20240920T100450Z
UID:11168-1731056400-1731078000@sidestrandhall.org.uk
SUMMARY:School Photo Day
DESCRIPTION:
URL:https://sidestrandhall.org.uk/event/school-photo-day/
LOCATION:Sidestrand Hall School\, Cromer Road\, Sidestrand\, NR270NH\, United Kingdom
CATEGORIES:Event
ATTACH;FMTTYPE=image/jpeg:https://sidestrandhall.org.uk/wp-content/uploads/2024/09/camera.jpg
END:VEVENT
BEGIN:VEVENT
DTSTART;TZID=Europe/London:20241011T090000
DTEND;TZID=Europe/London:20241011T150000
DTSTAMP:20260424T165404
CREATED:20240920T091136Z
LAST-MODIFIED:20240920T091748Z
UID:11166-1728637200-1728658800@sidestrandhall.org.uk
SUMMARY:Immunisation - Whole school Flu
DESCRIPTION:
URL:https://sidestrandhall.org.uk/event/immunisation-whole-school-flu/
CATEGORIES:Event
END:VEVENT
BEGIN:VEVENT
DTSTART;VALUE=DATE:20240924
DTEND;VALUE=DATE:20240926
DTSTAMP:20260424T165404
CREATED:20240920T091043Z
LAST-MODIFIED:20240920T091816Z
UID:11164-1727136000-1727308799@sidestrandhall.org.uk
SUMMARY:Bronze Duke of Edinburgh Practice Walk
DESCRIPTION:
URL:https://sidestrandhall.org.uk/event/bronze-duke-of-edinburgh-practice-walk/
CATEGORIES:Event
ATTACH;FMTTYPE=image/jpeg:https://sidestrandhall.org.uk/wp-content/uploads/2024/09/dofe-logo.jpg
END:VEVENT
BEGIN:VEVENT
DTSTART;VALUE=DATE:20240916
DTEND;VALUE=DATE:20240919
DTSTAMP:20260424T165404
CREATED:20240920T090938Z
LAST-MODIFIED:20240920T090938Z
UID:11161-1726444800-1726703999@sidestrandhall.org.uk
SUMMARY:Silver Duke of Edinburgh Practice Walk
DESCRIPTION:
URL:https://sidestrandhall.org.uk/event/silver-duke-of-edinburgh-practice-walk/
CATEGORIES:Event
ATTACH;FMTTYPE=image/jpeg:https://sidestrandhall.org.uk/wp-content/uploads/2024/09/dofe-logo.jpg
END:VEVENT
BEGIN:VEVENT
DTSTART;VALUE=DATE:20240712
DTEND;VALUE=DATE:20240713
DTSTAMP:20260424T165404
CREATED:20240522T143014Z
LAST-MODIFIED:20240611T095749Z
UID:10790-1720742400-1720828799@sidestrandhall.org.uk
SUMMARY:Strandfest 2024
DESCRIPTION:The theme for this years Strandfest will be ‘The Elements’.  We will have various events\, activities based on the the four elements of matter: Earth\, Water\,  Air\, and Fire\, as well as branching out across the whole periodic table. \nCheck back for more information.
URL:https://sidestrandhall.org.uk/event/strandfest-2024/
LOCATION:Sidestrand Hall School\, Cromer Road\, Sidestrand\, NR270NH\, United Kingdom
CATEGORIES:Event
ATTACH;FMTTYPE=image/jpeg:https://sidestrandhall.org.uk/wp-content/uploads/2024/06/strandfest.jpg
END:VEVENT
END:VCALENDAR