BEGIN:VCALENDAR
VERSION:2.0
PRODID:-//Sidestrand Hall School - ECPv6.10.2//NONSGML v1.0//EN
CALSCALE:GREGORIAN
METHOD:PUBLISH
X-WR-CALNAME:Sidestrand Hall School
X-ORIGINAL-URL:https://sidestrandhall.org.uk
X-WR-CALDESC:Events for Sidestrand Hall School
REFRESH-INTERVAL;VALUE=DURATION:PT1H
X-Robots-Tag:noindex
X-PUBLISHED-TTL:PT1H
BEGIN:VTIMEZONE
TZID:UTC
BEGIN:STANDARD
TZOFFSETFROM:+0000
TZOFFSETTO:+0000
TZNAME:UTC
DTSTART:20230101T000000
END:STANDARD
END:VTIMEZONE
BEGIN:VEVENT
DTSTART;TZID=UTC:20231219T120000
DTEND;TZID=UTC:20231219T133000
DTSTAMP:20260422T085516
CREATED:20230731T103639Z
LAST-MODIFIED:20230731T105155Z
UID:7513-1702987200-1702992600@sidestrandhall.org.uk
SUMMARY:Christmas Dinner Day
DESCRIPTION:More information to follow
URL:https://sidestrandhall.org.uk/event/christmas-dinner-day/
END:VEVENT
END:VCALENDAR