BEGIN:VCALENDAR
VERSION:2.0
PRODID:-//Sidestrand Hall School - ECPv6.10.2//NONSGML v1.0//EN
CALSCALE:GREGORIAN
METHOD:PUBLISH
X-WR-CALNAME:Sidestrand Hall School
X-ORIGINAL-URL:https://sidestrandhall.org.uk
X-WR-CALDESC:Events for Sidestrand Hall School
REFRESH-INTERVAL;VALUE=DURATION:PT1H
X-Robots-Tag:noindex
X-PUBLISHED-TTL:PT1H
BEGIN:VTIMEZONE
TZID:UTC
BEGIN:STANDARD
TZOFFSETFROM:+0000
TZOFFSETTO:+0000
TZNAME:UTC
DTSTART:20230101T000000
END:STANDARD
END:VTIMEZONE
BEGIN:VEVENT
DTSTART;TZID=UTC:20230922T090000
DTEND;TZID=UTC:20230922T150000
DTSTAMP:20260422T134931
CREATED:20230731T102913Z
LAST-MODIFIED:20230731T102913Z
UID:7501-1695373200-1695394800@sidestrandhall.org.uk
SUMMARY:School Photos
DESCRIPTION:Tempest Photography. Pupil photos.
URL:https://sidestrandhall.org.uk/event/school-photos/
END:VEVENT
END:VCALENDAR